Package: Ularcirc Version: 1.26.0 Command: /Library/Frameworks/R.framework/Resources/bin/R CMD build --keep-empty-dirs --no-resave-data Ularcirc StartedAt: 2025-10-14 11:34:54 -0400 (Tue, 14 Oct 2025) EndedAt: 2025-10-14 11:35:11 -0400 (Tue, 14 Oct 2025) EllapsedTime: 17.1 seconds RetCode: 0 Status: OK PackageFile: Ularcirc_1.26.0.tar.gz PackageFileSize: 5.214 MiB