Package: UCSC.utils Version: 1.4.0 Command: /home/biocbuild/bbs-3.21-bioc/R/bin/R CMD INSTALL UCSC.utils StartedAt: 2025-10-15 15:11:56 -0400 (Wed, 15 Oct 2025) EndedAt: 2025-10-15 15:12:02 -0400 (Wed, 15 Oct 2025) EllapsedTime: 5.6 seconds RetCode: 0 Status: OK