Package: UCSC.utils Version: 1.4.0 Command: /home/biocbuild/bbs-3.21-bioc/R/bin/R CMD build --keep-empty-dirs --no-resave-data UCSC.utils StartedAt: 2025-10-15 20:26:12 -0400 (Wed, 15 Oct 2025) EndedAt: 2025-10-15 20:26:24 -0400 (Wed, 15 Oct 2025) EllapsedTime: 12.0 seconds RetCode: 0 Status: OK PackageFile: UCSC.utils_1.4.0.tar.gz PackageFileSize: 230.6 KiB