Package: UCSC.utils Version: 1.4.0 Command: /home/biocbuild/R/R/bin/R CMD INSTALL UCSC.utils StartedAt: 2025-10-13 20:24:16 -0000 (Mon, 13 Oct 2025) EndedAt: 2025-10-13 20:24:23 -0000 (Mon, 13 Oct 2025) EllapsedTime: 6.9 seconds RetCode: 0 Status: OK