Package: UCSC.utils Version: 1.4.0 Command: /Library/Frameworks/R.framework/Resources/bin/R CMD INSTALL UCSC.utils StartedAt: 2025-10-13 15:34:54 -0400 (Mon, 13 Oct 2025) EndedAt: 2025-10-13 15:35:00 -0400 (Mon, 13 Oct 2025) EllapsedTime: 5.5 seconds RetCode: 0 Status: OK