Package: UCSC.utils Version: 1.4.0 Command: rm -rf UCSC.utils.buildbin-libdir && mkdir UCSC.utils.buildbin-libdir && /Users/biocbuild/BBS/utils/build-universal.sh UCSC.utils_1.4.0.tar.gz /Library/Frameworks/R.framework/Resources/bin/R UCSC.utils.buildbin-libdir StartedAt: 2025-10-15 20:56:57 -0400 (Wed, 15 Oct 2025) EndedAt: 2025-10-15 20:57:03 -0400 (Wed, 15 Oct 2025) EllapsedTime: 6.5 seconds RetCode: 0 Status: OK PackageFile: UCSC.utils_1.4.0.tgz PackageFileSize: 283 KiB