Package: TurboNorm Version: 1.56.0 Command: /Library/Frameworks/R.framework/Resources/bin/R CMD INSTALL TurboNorm StartedAt: 2025-10-13 15:39:37 -0400 (Mon, 13 Oct 2025) EndedAt: 2025-10-13 15:39:43 -0400 (Mon, 13 Oct 2025) EllapsedTime: 6.6 seconds RetCode: 0 Status: OK