Package: TreeSummarizedExperiment Version: 2.16.1 Command: /home/biocbuild/bbs-3.21-bioc/R/bin/R CMD build --keep-empty-dirs --no-resave-data TreeSummarizedExperiment StartedAt: 2025-10-15 20:23:00 -0400 (Wed, 15 Oct 2025) EndedAt: 2025-10-15 20:23:57 -0400 (Wed, 15 Oct 2025) EllapsedTime: 57.1 seconds RetCode: 0 Status: OK PackageFile: TreeSummarizedExperiment_2.16.1.tar.gz PackageFileSize: 1.108 MiB