Package: TreeSummarizedExperiment Version: 2.16.1 Command: /Library/Frameworks/R.framework/Resources/bin/R CMD INSTALL TreeSummarizedExperiment StartedAt: 2025-10-13 15:43:31 -0400 (Mon, 13 Oct 2025) EndedAt: 2025-10-13 15:44:46 -0400 (Mon, 13 Oct 2025) EllapsedTime: 74.3 seconds RetCode: 0 Status: OK