Package: TreeSummarizedExperiment Version: 2.16.1 Command: rm -rf TreeSummarizedExperiment.buildbin-libdir && mkdir TreeSummarizedExperiment.buildbin-libdir && /Users/biocbuild/BBS/utils/build-universal.sh TreeSummarizedExperiment_2.16.1.tar.gz /Library/Frameworks/R.framework/Resources/bin/R TreeSummarizedExperiment.buildbin-libdir StartedAt: 2025-10-14 14:59:45 -0400 (Tue, 14 Oct 2025) EndedAt: 2025-10-14 15:01:12 -0400 (Tue, 14 Oct 2025) EllapsedTime: 87.1 seconds RetCode: 0 Status: OK PackageFile: TreeSummarizedExperiment_2.16.1.tgz PackageFileSize: 1.835 MiB