Package: TreeSummarizedExperiment Version: 2.16.1 Command: /home/biocbuild/R/R/bin/R CMD INSTALL TreeSummarizedExperiment StartedAt: 2025-10-13 20:37:22 -0000 (Mon, 13 Oct 2025) EndedAt: 2025-10-13 20:38:07 -0000 (Mon, 13 Oct 2025) EllapsedTime: 45.2 seconds RetCode: 0 Status: OK