Package: TreeSummarizedExperiment Version: 2.16.1 Command: /home/biocbuild/R/R/bin/R CMD check --install=check:TreeSummarizedExperiment.install-out.txt --library=/home/biocbuild/R/R/site-library --no-vignettes --timings TreeSummarizedExperiment_2.16.1.tar.gz StartedAt: 2025-10-10 15:02:16 -0000 (Fri, 10 Oct 2025) EndedAt: 2025-10-10 15:09:48 -0000 (Fri, 10 Oct 2025) EllapsedTime: 451.7 seconds RetCode: 0 Status: OK CheckDir: TreeSummarizedExperiment.Rcheck Warnings: 0