Package: TreeSummarizedExperiment Version: 2.16.1 Command: /home/biocbuild/R/R/bin/R CMD build --keep-empty-dirs --no-resave-data TreeSummarizedExperiment StartedAt: 2025-10-14 05:30:16 -0000 (Tue, 14 Oct 2025) EndedAt: 2025-10-14 05:31:40 -0000 (Tue, 14 Oct 2025) EllapsedTime: 84.1 seconds RetCode: 0 Status: OK PackageFile: TreeSummarizedExperiment_2.16.1.tar.gz PackageFileSize: 1.138 MiB