Package: TreeAndLeaf Version: 1.20.0 Command: /Library/Frameworks/R.framework/Resources/bin/R CMD INSTALL TreeAndLeaf StartedAt: 2025-04-21 15:07:15 -0400 (Mon, 21 Apr 2025) EndedAt: 2025-04-21 15:08:18 -0400 (Mon, 21 Apr 2025) EllapsedTime: 63.3 seconds RetCode: 0 Status: OK