Package: TreeAndLeaf Version: 1.20.0 Command: /home/biocbuild/R/R/bin/R CMD INSTALL TreeAndLeaf StartedAt: 2025-10-13 20:17:39 -0000 (Mon, 13 Oct 2025) EndedAt: 2025-10-13 20:18:24 -0000 (Mon, 13 Oct 2025) EllapsedTime: 44.8 seconds RetCode: 0 Status: OK