Package: TreeAndLeaf Version: 1.20.0 Command: /Library/Frameworks/R.framework/Resources/bin/R CMD build --keep-empty-dirs --no-resave-data TreeAndLeaf StartedAt: 2025-10-14 11:22:55 -0400 (Tue, 14 Oct 2025) EndedAt: 2025-10-14 11:23:11 -0400 (Tue, 14 Oct 2025) EllapsedTime: 15.9 seconds RetCode: 0 Status: OK PackageFile: TreeAndLeaf_1.20.0.tar.gz PackageFileSize: 5.627 MiB