Package: TransView Version: 1.52.0 Command: /home/biocbuild/R/R/bin/R CMD build --keep-empty-dirs --no-resave-data TransView StartedAt: 2025-10-14 05:29:27 -0000 (Tue, 14 Oct 2025) EndedAt: 2025-10-14 05:30:00 -0000 (Tue, 14 Oct 2025) EllapsedTime: 33.0 seconds RetCode: 0 Status: OK PackageFile: TransView_1.52.0.tar.gz PackageFileSize: 1.871 MiB