Package: TransView Version: 1.52.0 Command: rm -rf TransView.buildbin-libdir && mkdir TransView.buildbin-libdir && /Users/biocbuild/BBS/utils/build-universal.sh TransView_1.52.0.tar.gz /Library/Frameworks/R.framework/Resources/bin/R TransView.buildbin-libdir StartedAt: 2025-10-15 20:54:14 -0400 (Wed, 15 Oct 2025) EndedAt: 2025-10-15 20:54:38 -0400 (Wed, 15 Oct 2025) EllapsedTime: 24.4 seconds RetCode: 0 Status: OK PackageFile: TransView_1.52.0.tgz PackageFileSize: 2.106 MiB