Package: TrajectoryUtils Version: 1.16.1 Command: /home/biocbuild/bbs-3.21-bioc/R/bin/R CMD INSTALL TrajectoryUtils StartedAt: 2025-10-15 15:23:33 -0400 (Wed, 15 Oct 2025) EndedAt: 2025-10-15 15:23:57 -0400 (Wed, 15 Oct 2025) EllapsedTime: 23.3 seconds RetCode: 0 Status: OK