Package: TrajectoryUtils Version: 1.16.1 Command: /home/biocbuild/bbs-3.21-bioc/R/bin/R CMD check --install=check:TrajectoryUtils.install-out.txt --library=/home/biocbuild/bbs-3.21-bioc/R/site-library --timings TrajectoryUtils_1.16.1.tar.gz StartedAt: 2025-10-16 04:30:24 -0400 (Thu, 16 Oct 2025) EndedAt: 2025-10-16 04:33:33 -0400 (Thu, 16 Oct 2025) EllapsedTime: 189.2 seconds RetCode: 0 Status: OK CheckDir: TrajectoryUtils.Rcheck Warnings: 0