Package: TrajectoryUtils Version: 1.16.1 Command: /Library/Frameworks/R.framework/Resources/bin/R CMD INSTALL TrajectoryUtils StartedAt: 2025-10-13 15:44:05 -0400 (Mon, 13 Oct 2025) EndedAt: 2025-10-13 15:44:56 -0400 (Mon, 13 Oct 2025) EllapsedTime: 50.7 seconds RetCode: 0 Status: OK