Package: TrajectoryUtils Version: 1.16.1 Command: /Library/Frameworks/R.framework/Resources/bin/R CMD build --keep-empty-dirs --no-resave-data TrajectoryUtils StartedAt: 2025-10-13 23:19:30 -0400 (Mon, 13 Oct 2025) EndedAt: 2025-10-13 23:20:46 -0400 (Mon, 13 Oct 2025) EllapsedTime: 76.2 seconds RetCode: 0 Status: OK PackageFile: TrajectoryUtils_1.16.1.tar.gz PackageFileSize: 338.7 KiB