Package: TrajectoryUtils Version: 1.16.1 Command: /home/biocbuild/R/R/bin/R CMD INSTALL TrajectoryUtils StartedAt: 2025-10-13 20:37:46 -0000 (Mon, 13 Oct 2025) EndedAt: 2025-10-13 20:38:20 -0000 (Mon, 13 Oct 2025) EllapsedTime: 33.5 seconds RetCode: 0 Status: OK