Package: TrajectoryUtils Version: 1.16.1 Command: /home/biocbuild/R/R/bin/R CMD check --install=check:TrajectoryUtils.install-out.txt --library=/home/biocbuild/R/R/site-library --no-vignettes --timings TrajectoryUtils_1.16.1.tar.gz StartedAt: 2025-10-10 14:58:27 -0000 (Fri, 10 Oct 2025) EndedAt: 2025-10-10 15:02:23 -0000 (Fri, 10 Oct 2025) EllapsedTime: 236.3 seconds RetCode: 0 Status: OK CheckDir: TrajectoryUtils.Rcheck Warnings: 0