Package: TrajectoryUtils Version: 1.16.1 Command: /home/biocbuild/R/R/bin/R CMD build --keep-empty-dirs --no-resave-data TrajectoryUtils StartedAt: 2025-10-14 05:28:09 -0000 (Tue, 14 Oct 2025) EndedAt: 2025-10-14 05:28:57 -0000 (Tue, 14 Oct 2025) EllapsedTime: 48.0 seconds RetCode: 0 Status: OK PackageFile: TrajectoryUtils_1.16.1.tar.gz PackageFileSize: 405 KiB