Package: TrajectoryUtils Version: 1.16.1 Command: /Library/Frameworks/R.framework/Resources/bin/R CMD check --install=check:TrajectoryUtils.install-out.txt --library=/Library/Frameworks/R.framework/Resources/library --no-vignettes --timings TrajectoryUtils_1.16.1.tar.gz StartedAt: 2025-10-15 15:43:14 -0400 (Wed, 15 Oct 2025) EndedAt: 2025-10-15 15:46:38 -0400 (Wed, 15 Oct 2025) EllapsedTime: 204.0 seconds RetCode: 0 Status: OK CheckDir: TrajectoryUtils.Rcheck Warnings: 0