Package: TrajectoryUtils Version: 1.16.1 Command: /Library/Frameworks/R.framework/Resources/bin/R CMD build --keep-empty-dirs --no-resave-data TrajectoryUtils StartedAt: 2025-10-14 11:15:43 -0400 (Tue, 14 Oct 2025) EndedAt: 2025-10-14 11:16:27 -0400 (Tue, 14 Oct 2025) EllapsedTime: 44.5 seconds RetCode: 0 Status: OK PackageFile: TrajectoryUtils_1.16.1.tar.gz PackageFileSize: 340.8 KiB