Package: TrajectoryUtils Version: 1.16.1 Command: rm -rf TrajectoryUtils.buildbin-libdir && mkdir TrajectoryUtils.buildbin-libdir && /Users/biocbuild/BBS/utils/build-universal.sh TrajectoryUtils_1.16.1.tar.gz /Library/Frameworks/R.framework/Resources/bin/R TrajectoryUtils.buildbin-libdir StartedAt: 2025-10-15 20:53:27 -0400 (Wed, 15 Oct 2025) EndedAt: 2025-10-15 20:53:59 -0400 (Wed, 15 Oct 2025) EllapsedTime: 32.2 seconds RetCode: 0 Status: OK PackageFile: TrajectoryUtils_1.16.1.tgz PackageFileSize: 570 KiB