Package: TrajectoryGeometry Version: 1.16.0 Command: /home/biocbuild/bbs-3.21-bioc/R/bin/R CMD INSTALL TrajectoryGeometry StartedAt: 2025-10-15 15:07:18 -0400 (Wed, 15 Oct 2025) EndedAt: 2025-10-15 15:07:33 -0400 (Wed, 15 Oct 2025) EllapsedTime: 14.5 seconds RetCode: 0 Status: OK