Package: TrajectoryGeometry Version: 1.16.0 Command: /home/biocbuild/bbs-3.21-bioc/R/bin/R CMD build --keep-empty-dirs --no-resave-data TrajectoryGeometry StartedAt: 2025-10-15 20:21:46 -0400 (Wed, 15 Oct 2025) EndedAt: 2025-10-15 20:26:12 -0400 (Wed, 15 Oct 2025) EllapsedTime: 266.3 seconds RetCode: 0 Status: OK PackageFile: TrajectoryGeometry_1.16.0.tar.gz PackageFileSize: 1.892 MiB