Package: TrajectoryGeometry Version: 1.16.0 Command: /home/biocbuild/R/R/bin/R CMD INSTALL TrajectoryGeometry StartedAt: 2025-10-13 20:18:47 -0000 (Mon, 13 Oct 2025) EndedAt: 2025-10-13 20:19:21 -0000 (Mon, 13 Oct 2025) EllapsedTime: 34.1 seconds RetCode: 0 Status: OK