Package: TrajectoryGeometry Version: 1.16.0 Command: /home/biocbuild/R/R/bin/R CMD check --install=check:TrajectoryGeometry.install-out.txt --library=/home/biocbuild/R/R/site-library --no-vignettes --timings TrajectoryGeometry_1.16.0.tar.gz StartedAt: 2025-10-10 14:58:23 -0000 (Fri, 10 Oct 2025) EndedAt: 2025-10-10 15:00:03 -0000 (Fri, 10 Oct 2025) EllapsedTime: 100.1 seconds RetCode: 0 Status: OK CheckDir: TrajectoryGeometry.Rcheck Warnings: 0