Package: TrajectoryGeometry Version: 1.16.0 Command: /home/biocbuild/R/R/bin/R CMD build --keep-empty-dirs --no-resave-data TrajectoryGeometry StartedAt: 2025-10-14 05:28:00 -0000 (Tue, 14 Oct 2025) EndedAt: 2025-10-14 05:35:50 -0000 (Tue, 14 Oct 2025) EllapsedTime: 470.4 seconds RetCode: 0 Status: OK PackageFile: TrajectoryGeometry_1.16.0.tar.gz PackageFileSize: 1.808 MiB