Package: TrajectoryGeometry Version: 1.16.0 Command: rm -rf TrajectoryGeometry.buildbin-libdir && mkdir TrajectoryGeometry.buildbin-libdir && /Users/biocbuild/BBS/utils/build-universal.sh TrajectoryGeometry_1.16.0.tar.gz /Library/Frameworks/R.framework/Resources/bin/R TrajectoryGeometry.buildbin-libdir StartedAt: 2025-10-15 20:53:24 -0400 (Wed, 15 Oct 2025) EndedAt: 2025-10-15 20:53:33 -0400 (Wed, 15 Oct 2025) EllapsedTime: 8.9 seconds RetCode: 0 Status: OK PackageFile: TrajectoryGeometry_1.16.0.tgz PackageFileSize: 1.36 MiB