Package: TissueEnrich Version: 1.28.0 Command: /home/biocbuild/R/R/bin/R CMD INSTALL TissueEnrich StartedAt: 2025-10-13 20:45:24 -0000 (Mon, 13 Oct 2025) EndedAt: 2025-10-13 20:46:08 -0000 (Mon, 13 Oct 2025) EllapsedTime: 44.5 seconds RetCode: 0 Status: OK