Package: TileDBArray Version: 1.18.0 Command: /Library/Frameworks/R.framework/Resources/bin/R CMD INSTALL TileDBArray StartedAt: 2025-10-13 15:29:04 -0400 (Mon, 13 Oct 2025) EndedAt: 2025-10-13 15:29:50 -0400 (Mon, 13 Oct 2025) EllapsedTime: 46.9 seconds RetCode: 0 Status: OK