Package: TileDBArray Version: 1.18.0 Command: /home/biocbuild/R/R/bin/R CMD INSTALL TileDBArray StartedAt: 2025-10-13 20:28:38 -0000 (Mon, 13 Oct 2025) EndedAt: 2025-10-13 20:28:39 -0000 (Mon, 13 Oct 2025) EllapsedTime: 0.4 seconds RetCode: 1 Status: ERROR