Package: TileDBArray Version: 1.18.0 Command: /home/biocbuild/R/R/bin/R CMD build --keep-empty-dirs --no-resave-data TileDBArray StartedAt: 2025-10-14 05:24:19 -0000 (Tue, 14 Oct 2025) EndedAt: 2025-10-14 05:24:20 -0000 (Tue, 14 Oct 2025) EllapsedTime: 1.0 seconds RetCode: 1 Status: ERROR PackageFile: None PackageFileSize: NA