Package: TileDBArray Version: 1.18.0 Command: /Library/Frameworks/R.framework/Resources/bin/R CMD INSTALL TileDBArray StartedAt: 2025-10-13 15:41:36 -0400 (Mon, 13 Oct 2025) EndedAt: 2025-10-13 15:42:01 -0400 (Mon, 13 Oct 2025) EllapsedTime: 24.8 seconds RetCode: 0 Status: OK