Package: TileDBArray Version: 1.18.0 Command: /Library/Frameworks/R.framework/Resources/bin/R CMD check --install=check:TileDBArray.install-out.txt --library=/Library/Frameworks/R.framework/Resources/library --no-vignettes --timings TileDBArray_1.18.0.tar.gz StartedAt: 2025-10-15 15:25:58 -0400 (Wed, 15 Oct 2025) EndedAt: 2025-10-15 15:28:46 -0400 (Wed, 15 Oct 2025) EllapsedTime: 168.4 seconds RetCode: 0 Status: OK CheckDir: TileDBArray.Rcheck Warnings: 0