Package: TileDBArray Version: 1.18.0 Command: /Library/Frameworks/R.framework/Resources/bin/R CMD build --keep-empty-dirs --no-resave-data TileDBArray StartedAt: 2025-10-14 11:04:28 -0400 (Tue, 14 Oct 2025) EndedAt: 2025-10-14 11:05:09 -0400 (Tue, 14 Oct 2025) EllapsedTime: 42.0 seconds RetCode: 0 Status: OK PackageFile: TileDBArray_1.18.0.tar.gz PackageFileSize: 305.2 KiB