Package: TargetSearch Version: 2.10.0 Command: /home/biocbuild/bbs-3.21-bioc/R/bin/R CMD build --keep-empty-dirs --no-resave-data TargetSearch StartedAt: 2025-10-15 20:15:55 -0400 (Wed, 15 Oct 2025) EndedAt: 2025-10-15 20:16:22 -0400 (Wed, 15 Oct 2025) EllapsedTime: 26.4 seconds RetCode: 0 Status: OK PackageFile: TargetSearch_2.10.0.tar.gz PackageFileSize: 719.8 KiB