Package: TargetSearch Version: 2.10.0 Maintainer: Alvaro Cuadros-Inostroza MaintainerEmail: acuadros+bioc at gmail.com git_url: https://git.bioconductor.org/packages/TargetSearch git_branch: RELEASE_3_21 git_last_commit: 1a62936 git_last_commit_date: 2025-04-15 09:44:46 -0400 (Tue, 15 Apr 2025)