Package: TargetScore Version: 1.46.0 Command: /Library/Frameworks/R.framework/Resources/bin/R CMD INSTALL TargetScore StartedAt: 2025-10-13 15:14:54 -0400 (Mon, 13 Oct 2025) EndedAt: 2025-10-13 15:15:01 -0400 (Mon, 13 Oct 2025) EllapsedTime: 6.7 seconds RetCode: 0 Status: OK