Package: TargetScore Version: 1.46.0 Command: /Library/Frameworks/R.framework/Resources/bin/R CMD build --keep-empty-dirs --no-resave-data TargetScore StartedAt: 2025-10-14 10:51:34 -0400 (Tue, 14 Oct 2025) EndedAt: 2025-10-14 10:52:00 -0400 (Tue, 14 Oct 2025) EllapsedTime: 25.9 seconds RetCode: 0 Status: OK PackageFile: TargetScore_1.46.0.tar.gz PackageFileSize: 1.231 MiB