Package: TargetScore Version: 1.46.0 Command: rm -rf TargetScore.buildbin-libdir && mkdir TargetScore.buildbin-libdir && /Users/biocbuild/BBS/utils/build-universal.sh TargetScore_1.46.0.tar.gz /Library/Frameworks/R.framework/Resources/bin/R TargetScore.buildbin-libdir StartedAt: 2025-10-15 20:48:10 -0400 (Wed, 15 Oct 2025) EndedAt: 2025-10-15 20:48:18 -0400 (Wed, 15 Oct 2025) EllapsedTime: 7.9 seconds RetCode: 0 Status: OK PackageFile: TargetScore_1.46.0.tgz PackageFileSize: 1.26 MiB