Package: TargetDecoy Version: 1.14.0 Command: /home/biocbuild/bbs-3.21-bioc/R/bin/R CMD INSTALL TargetDecoy StartedAt: 2025-10-15 15:21:50 -0400 (Wed, 15 Oct 2025) EndedAt: 2025-10-15 15:21:58 -0400 (Wed, 15 Oct 2025) EllapsedTime: 8.8 seconds RetCode: 0 Status: OK