Package: TargetDecoy Version: 1.14.0 Command: /Library/Frameworks/R.framework/Resources/bin/R CMD INSTALL TargetDecoy StartedAt: 2025-10-13 16:26:13 -0400 (Mon, 13 Oct 2025) EndedAt: 2025-10-13 16:26:25 -0400 (Mon, 13 Oct 2025) EllapsedTime: 11.5 seconds RetCode: 0 Status: OK