Package: TargetDecoy Version: 1.14.0 Command: rm -rf TargetDecoy.buildbin-libdir && mkdir TargetDecoy.buildbin-libdir && /Users/biocbuild/BBS/utils/build-universal.sh TargetDecoy_1.14.0.tar.gz /Library/Frameworks/R.framework/Resources/bin/R TargetDecoy.buildbin-libdir StartedAt: 2025-10-15 20:48:05 -0400 (Wed, 15 Oct 2025) EndedAt: 2025-10-15 20:48:18 -0400 (Wed, 15 Oct 2025) EllapsedTime: 12.5 seconds RetCode: 0 Status: OK PackageFile: TargetDecoy_1.14.0.tgz PackageFileSize: 3.88 MiB