Package: TTMap Version: 1.30.0 Command: /home/biocbuild/bbs-3.21-bioc/R/bin/R CMD INSTALL TTMap StartedAt: 2025-10-15 15:22:11 -0400 (Wed, 15 Oct 2025) EndedAt: 2025-10-15 15:22:33 -0400 (Wed, 15 Oct 2025) EllapsedTime: 22.2 seconds RetCode: 0 Status: OK